BEGIN:VCALENDAR
VERSION:2.0
PRODID:-//Aura İstanbul - ECPv6.15.18//NONSGML v1.0//EN
CALSCALE:GREGORIAN
METHOD:PUBLISH
X-WR-CALNAME:Aura İstanbul
X-ORIGINAL-URL:https://aura-istanbul.com
X-WR-CALDESC:Aura İstanbul için etkinlikler
REFRESH-INTERVAL;VALUE=DURATION:PT1H
X-Robots-Tag:noindex
X-PUBLISHED-TTL:PT1H
BEGIN:VTIMEZONE
TZID:Europe/Istanbul
BEGIN:STANDARD
TZOFFSETFROM:+0300
TZOFFSETTO:+0300
TZNAME:+03
DTSTART:20250101T000000
END:STANDARD
END:VTIMEZONE
BEGIN:VEVENT
DTSTART;TZID=Europe/Istanbul:20260311T110000
DTEND;TZID=Europe/Istanbul:20260311T130000
DTSTAMP:20260419T150231
CREATED:20260307T120909Z
LAST-MODIFIED:20260310T130443Z
UID:16294-1773226800-1773234000@aura-istanbul.com
SUMMARY:Mimarlıkta Güncel Tartışmalar: İstanbul'un Katmanları - İlhan Tekeli “Türkiye'de Kentlerin Tarih Boyunca Geçirdiği Dönüşümler ve Bugün Geldiğimiz Aşama”
DESCRIPTION:AURA İstanbul ve Beykoz Üniversitesi Mimarlık Bölümü iş birliğinde Tansel Korkmaz tarafından yürütülen “Mimarlıkta Güncel Tartışmalar: İstanbul’un Katmanları” seminerleri kapsamında şehir planlama\, bölge planlama\, sosyal sistemler\, makro-coğrafya\, yerel yönetimler\, iktisadi politikalar\, iktisat tarihi\, şehir tarihi gibi konularda pek çok yazı ve bildirisi ile kent bilim dünyasına değerli katkılar sunan Prof. Dr. İlhan Tekeli’yi ağırlıyor. \n\n\n\nP rof. Dr. İlhan Tekeli’nin “Türkiye’de Kentlerin Tarih Boyunca Geçirdiği Dönüşümler ve Bugün Geldiğimiz Aşama” başlıklı konferansı 11 Mart Çarşamba günü saat 11.00’de online olarak düzenlenecek. \n\n\n\nStoneline desteğiyle gerçekleşen seminere katılım herkese açık ve ücretsizdir. Online olarak gerçekleşecek seminer YouTube kanalımızdan canlı olarak izlenebilecektir. \n\n\n\n\n\n\n\n\n\n\n\n\n\n\n\n\nZeynep Esin Temtek
URL:https://aura-istanbul.com/index.php/event/mimarlikta-guncel-tartismalar-istanbulun-katmanlari-ilhan-tekeli-turkiyede-kentlerin-tarih-boyunca-gecirdigi-donusumler-ve-bugun-geldigimiz-asama/
ATTACH;FMTTYPE=image/jpeg:https://aura-istanbul.com/wp-content/uploads/2026/03/ILHAN-TEKELI3.jpg
END:VEVENT
BEGIN:VEVENT
DTSTART;TZID=Europe/Istanbul:20260314T103000
DTEND;TZID=Europe/Istanbul:20260314T123000
DTSTAMP:20260419T150231
CREATED:20260307T115829Z
LAST-MODIFIED:20260307T115829Z
UID:16290-1773484200-1773491400@aura-istanbul.com
SUMMARY:Ali Artun: "Kitsch Sanat - Popüler Kültür"
DESCRIPTION:Ali Artun ile “Kitsch Sanat – Popüler Kültür” semineri AURA İstanbul’da! \n\n\n\nAli Artun ile “Bir Modernizm Tarihi”\, “Akılcılık Ötesi Mimarlık” ve “Müze ve Mimarlık” seminer dizileriyle sanat\, modernizm ve mimarlık düşüncesi ekseninde çıktığımız yolculuk\, şimdi ise yeni bir tartışma alanı açıyor.AURA İstanbul olarak\, Ali Artun’un rehberliğinde gerçekleşecek yeni seminerleri duyurmaktan mutluluk duyuyoruz.Sanat tarihi\, kültür eleştirisi ve modernizm üzerine derin çalışmalarıyla tanınan Ali Artun\, akademik ve entelektüel birikimiyle Türkiye’nin sanat ve kültür alanına katkı sağlamış değerli bir isimdir. Uzun yıllar boyunca İletişim Yayınları’nın SanatHayat serisinin editörlüğünü üstlenmiş\, sanat ve modernizme dair sayısız değerli eseri okuyucuyla buluşturmuştur. Artun’un çalışmaları\, modernizmin farklı boyutlarını sanat ve toplum ilişkisi bağlamında ele alırken\, derin bir eleştirel bakış sunar. Yazıları\, sanat ve modernizm üzerine düşünen herkese yeni ufuklar açmaktadır. \n\n\n\naliartun.com \n\n\n\nBirinci Seminer: “Kitsch Sanat – Popüler Kültür” \n\n\n\nBu etkileyici seminerlerin ilk oturumunda\, “Kitsch Sanat – Popüler Kültür” üzerine Ali Artun’un rehberliğinde derinlemesine bir inceleme yapacağız.Tarih: 14 Mart CumartesiSaat: 10.30-12.00Yer: AURA İstanbulAdres: Sinanpaşa İş Merkezi\, Kat 4\, D: 3\, Beşiktaş İstanbul.Stoneline‘ın desteği ile düzenlenen seminer dizisine katılım herkese açık ve ücretsizdir. Kontenjan sınırlıdır. \n\n\n\n\n\n\n\n\n\n\n\n\n\n\n\n\nZeynep Esin Temtek
URL:https://aura-istanbul.com/index.php/event/ali-artun-kitsch-sanat-populer-kultur/
CATEGORIES:Ali Artun
ATTACH;FMTTYPE=image/jpeg:https://aura-istanbul.com/wp-content/uploads/2026/03/ALI-ARTUN-20263.jpg
END:VEVENT
BEGIN:VEVENT
DTSTART;TZID=Europe/Istanbul:20260318T110000
DTEND;TZID=Europe/Istanbul:20260318T130000
DTSTAMP:20260419T150231
CREATED:20260316T083357Z
LAST-MODIFIED:20260316T083358Z
UID:16309-1773831600-1773838800@aura-istanbul.com
SUMMARY:Mimarlıkta Güncel Tartışmalar: İstanbul'un Katmanları - Murat Güvenç “Maltepe'nin Sosyal Coğrafyası”
DESCRIPTION:AURA İstanbul ve Beykoz Üniversitesi Mimarlık Bölümü iş birliğinde Tansel Korkmaz tarafından yürütülen “Mimarlıkta Güncel Tartışmalar: İstanbul’un Katmanları” seminerleri kapsamında Prof. Dr. Murat Güvenç’i ağırlıyor. \n\n\n\nProf. Dr. Murat Güvenç’in “Maltepe’nin Sosyal Coğrafyası” başlıklı konferansı 18 Mart Çarşamba günü saat 11.00’de AURA İstanbul’da gerçekleşecektir. \n\n\n\nSemineri AURA İstanbul’da yerinde izlemek isteyen katılımcıların kayıt yaptırması gerekmektedir; seminer aynı zamanda YouTube kanalından canlı olarak yayınlanacaktır. \n\n\n\nStoneline desteğiyle gerçekleşen seminere katılım herkese açık ve ücretsizdir. \n\n\n\n\n\n\n\n\n\n\n\n\n\n\n\n\nZeynep Esin Temtek
URL:https://aura-istanbul.com/index.php/event/mimarlikta-guncel-tartismalar-istanbulun-katmanlari-murat-guvenc-maltepenin-sosyal-cografyasi/
ATTACH;FMTTYPE=image/jpeg:https://aura-istanbul.com/wp-content/uploads/2026/03/MURAT-GUVENC2.jpg
END:VEVENT
BEGIN:VEVENT
DTSTART;TZID=Europe/Istanbul:20260325T110000
DTEND;TZID=Europe/Istanbul:20260325T130000
DTSTAMP:20260419T150231
CREATED:20260323T094451Z
LAST-MODIFIED:20260323T094452Z
UID:16324-1774436400-1774443600@aura-istanbul.com
SUMMARY:Mimarlıkta Güncel Tartışmalar: İstanbul'un Katmanları - Ünal Akkemik “Doğal Ekosistemler ve Kent Planlamasındaki Önemi: Maltepe”
DESCRIPTION:AURA İstanbul ve Beykoz Üniversitesi Mimarlık Bölümü iş birliğinde Tansel Korkmaz tarafından yürütülen “Mimarlıkta Güncel Tartışmalar: İstanbul’un Katmanları” seminerleri kapsamında Prof. Dr. Ünal Akkemik’i ağırlıyor. \n\n\n\nProf. Dr. Ünal Akkemik’in “Doğal Ekosistemler ve Kent Planlamasındaki Önemi: Maltepe” başlıklı semineri 25 Mart Çarşamba günü saat 11.00’de AURA İstanbul’da gerçekleşecektir. \n\n\n\nSemineri AURA İstanbul’da yerinde izlemek isteyen katılımcıların kayıt yaptırması gerekmektedir; seminer aynı zamanda YouTube kanalından canlı olarak yayınlanacaktır. \n\n\n\nStoneline desteğiyle gerçekleşen seminere katılım herkese açık ve ücretsizdir. \n\n\n\n\n\n\n\n\n\n\n\n\n\n\n\n\nZeynep Esin Temtek
URL:https://aura-istanbul.com/index.php/event/mimarlikta-guncel-tartismalar-istanbulun-katmanlari-unal-akkemik-dogal-ekosistemler-ve-kent-planlamasindaki-onemi-maltepe/
ATTACH;FMTTYPE=image/jpeg:https://aura-istanbul.com/wp-content/uploads/2026/03/Unal-Akkemik3.jpg
END:VEVENT
BEGIN:VEVENT
DTSTART;TZID=Europe/Istanbul:20260328T140000
DTEND;TZID=Europe/Istanbul:20260328T160000
DTSTAMP:20260419T150231
CREATED:20260307T120204Z
LAST-MODIFIED:20260331T141113Z
UID:16292-1774706400-1774713600@aura-istanbul.com
SUMMARY:Cumartesi Aurası: Tuna Han Koç - Zeynep Altınbaşlı “Mekândan Yere Kentin Üretimi”
DESCRIPTION:Tuna Han Koç & Zeynep Altınbaşlı\, “Mekândan Yere Kentin Üretimi” başlıklı konuşmasıyla AURA İstanbul’da! \n\n\n\n2017 yılından bu yana herkesin katılımına açık ve ücretsiz olarak düzenlenen Cumartesi Aurası disiplinler arası konferans dizisi\, 2026 Bahar Dönemi’nde AURA İstanbul’un Beşiktaş’taki merkezinde yüz yüze olarak sürüyor. \n\n\n\nCumartesi Aurası konferans dizisi\, bu dönemin yürütücüsü Tansel Korkmaz’ın moderatörlüğünde\, “Mimarlık ve Kentsel Tasarım: Vaka Analizleri” başlıklı söyleşi dizisi kapsamında gerçekleşiyor. \n\n\n\n28 Mart 2026 Cumartesi günü saat 14.00’te gerçekleşecek buluşmada\, Rasa Stüdyo kurucu mimarları Tuna Han Koç ve Zeynep Altınbaşlı konuk oluyor. \n\n\n\nStoneline’ın desteği ve Kahve Dünyası’nın ikramlarıyla düzenlenen konferans herkese açık ve ücretsizdir. Kontenjan sınırlıdır.Tuna Han Koç & Zeynep Altınbaşlı \n\n\n\nRasa Stüdyo 2016 yılında Tuna Han Koç ve Zeynep Altınbaşlı tarafından İstanbul’da kurulmuştur. Stüdyo’nun mekan üretme pratiğindeki öncelikli tavrı: insan ve bağlam odağında tanımlanan problem üzerinden farklı ölçek ve programlarda mekansal çözümler üretmektir. Ulaşılan mekansal çözümlemelerin yapı haline gelme sürecinde güncel malzeme ve yapım teknolojilerinin araştırılması ve uygun detaylarla bir araya getirilmesi Rasa Stüdyo’nun başlıca pratiğini tanımlamaktadır.Detaylı bilgi için: rasastudyo.com \n\n\n\nCumartesi Aurası \n\n\n\nCumartesi Aurası\, İstanbul Mimarlık ve Şehircilik Araştırmaları Akademisi – AURA İstanbul’un Sertifika Programı kapsamında\, program katılımcılarına yönelik düzenlenen disiplinler arası nitelikteki konferans dizisidir. Mimarlık\, şehircilik\, sanat\, edebiyat\, teknoloji ve felsefe dallarında tartışma\, buluşma ve farkındalık ortamı oluşturmayı hedefler. \n\n\n\n2017 yılından bugüne herkesin katılımına açık ve ücretsiz olarak düzenlenen\, Cumartesi Aurası disiplinler arası konferans dizisi\, AURA İstanbul’un Beşiktaş’ta yer alan merkezinde yüz yüze olarak devam ediyor. \n\n\n\nCumartesi Aurası etkinlik arşivine ulaşmak ve AURA İstanbul Youtube kanalı üzerinden izlemek için tıklayınız. \n\n\n\n \n\n\n\n\n\n\n\n\n\n\n\n\n\n\n\n\n\n\nZeynep Esin Temtek
URL:https://aura-istanbul.com/index.php/event/cumartesi-aurasi/
ATTACH;FMTTYPE=image/jpeg:https://aura-istanbul.com/wp-content/uploads/2026/03/Tunahan-Koc-2026-Mart3.jpg
END:VEVENT
END:VCALENDAR